BEGIN:VCALENDAR
VERSION:2.0
PRODID:-//GMAC - ECPv5.0.2.1//NONSGML v1.0//EN
CALSCALE:GREGORIAN
METHOD:PUBLISH
X-WR-CALNAME:GMAC
X-ORIGINAL-URL:https://gmac.org.au
X-WR-CALDESC:Events for GMAC
BEGIN:VTIMEZONE
TZID:Australia/Melbourne
BEGIN:STANDARD
TZOFFSETFROM:+1100
TZOFFSETTO:+1000
TZNAME:AEST
DTSTART:20190406T160000
END:STANDARD
BEGIN:DAYLIGHT
TZOFFSETFROM:+1000
TZOFFSETTO:+1100
TZNAME:AEDT
DTSTART:20191005T160000
END:DAYLIGHT
END:VTIMEZONE
BEGIN:VEVENT
DTSTART;TZID=Australia/Melbourne:20191208T090000
DTEND;TZID=Australia/Melbourne:20191208T170000
DTSTAMP:20200302T054148
CREATED:20191118T032923Z
LAST-MODIFIED:20191118T032923Z
UID:969-1575795600-1575824400@gmac.org.au
SUMMARY:F3A Comp - P&DARCS
DESCRIPTION:
URL:https://gmac.org.au/index.php/event/f3a-comp-pdarcs/
LOCATION:P@DARC
END:VEVENT
END:VCALENDAR