BEGIN:VCALENDAR
VERSION:2.0
PRODID:-//GMAC - ECPv5.3.2.1//NONSGML v1.0//EN
CALSCALE:GREGORIAN
METHOD:PUBLISH
X-WR-CALNAME:GMAC
X-ORIGINAL-URL:https://gmac.org.au
X-WR-CALDESC:Events for GMAC
BEGIN:VTIMEZONE
TZID:Australia/Melbourne
BEGIN:STANDARD
TZOFFSETFROM:+1100
TZOFFSETTO:+1000
TZNAME:AEST
DTSTART:20210403T160000
END:STANDARD
BEGIN:DAYLIGHT
TZOFFSETFROM:+1000
TZOFFSETTO:+1100
TZNAME:AEDT
DTSTART:20211002T160000
END:DAYLIGHT
END:VTIMEZONE
BEGIN:VEVENT
DTSTART;TZID=Australia/Melbourne:20210214T090000
DTEND;TZID=Australia/Melbourne:20210214T160000
DTSTAMP:20210224T162541
CREATED:20210121T220058Z
LAST-MODIFIED:20210121T220058Z
UID:1220-1613293200-1613318400@gmac.org.au
SUMMARY:F3A Nepean
DESCRIPTION:
URL:https://gmac.org.au/index.php/event/f3a-nepean/
LOCATION:Nepean
END:VEVENT
END:VCALENDAR