BEGIN:VCALENDAR
VERSION:2.0
PRODID:-//GMAC - ECPv4.8.1//NONSGML v1.0//EN
CALSCALE:GREGORIAN
METHOD:PUBLISH
X-WR-CALNAME:GMAC
X-ORIGINAL-URL:https://gmac.org.au
X-WR-CALDESC:Events for GMAC
BEGIN:VEVENT
DTSTART;TZID=Australia/Melbourne:20190209T100000
DTEND;TZID=Australia/Melbourne:20190209T150000
DTSTAMP:20190226T185300
CREATED:20190115T194302Z
LAST-MODIFIED:20190115T194302Z
UID:770-1549706400-1549724400@gmac.org.au
SUMMARY:Control Line day
DESCRIPTION:Control Line day at GMAC with control line guys from other clubs visiting and demonstrating their airplanes \n
URL:https://gmac.org.au/index.php/event/control-line-day/
LOCATION:GMAC\, Australia
END:VEVENT
BEGIN:VEVENT
DTSTART;TZID=Australia/Melbourne:20190217T090000
DTEND;TZID=Australia/Melbourne:20190217T170000
DTSTAMP:20190226T185300
CREATED:20190115T194111Z
LAST-MODIFIED:20190115T194111Z
UID:767-1550394000-1550422800@gmac.org.au
SUMMARY:F3A Nepean
DESCRIPTION:
URL:https://gmac.org.au/index.php/event/f3a-nepean/
LOCATION:Nepean
END:VEVENT
BEGIN:VEVENT
DTSTART;TZID=Australia/Melbourne:20190223T090000
DTEND;TZID=Australia/Melbourne:20190223T170000
DTSTAMP:20190226T185300
CREATED:20190209T222929Z
LAST-MODIFIED:20190209T222929Z
UID:786-1550912400-1550941200@gmac.org.au
SUMMARY:Haydn Hampson - Frank Curzon Scale event
DESCRIPTION:
URL:https://gmac.org.au/index.php/event/haydn-hampson-frank-curzon-scale-event/
LOCATION:YVA
END:VEVENT
BEGIN:VEVENT
DTSTART;TZID=Australia/Melbourne:20190224T080000
DTEND;TZID=Australia/Melbourne:20190224T170000
DTSTAMP:20190226T185300
CREATED:20190117T234633Z
LAST-MODIFIED:20190117T234633Z
UID:779-1550995200-1551027600@gmac.org.au
SUMMARY:VJAA Leongatha Club Flying day
DESCRIPTION:Leongatha Club Flying day \nCome along and support this great venue\nThis venue offers a very relaxed flying day at a private airfield. \nThe bitumen runway 04/22 is 18 mts wide x 924 mts long and surrounded by open areas. \nWe park and setup along the alternate runway there is plenty of room for gazebos\, cars and trailers. \nGates will be open 8.30 am and flying starts at 9.00 am.\nThis is an official VJAA venue and event and all MAAA affiliated pilots are welcome to come and fly for the day. \nFor current VJAA members there is no charge\, those who are not current members will need to pay a $50 day fee or join the VJAA and reap the benefits.\nThe VJAA will have the BBQ running for a Sausage sizzle and cold drinks will be on hand. \n
URL:https://gmac.org.au/index.php/event/vjaa-leongatha-club-flying-day/
LOCATION:Leongatha
END:VEVENT
BEGIN:VEVENT
DTSTART;TZID=Australia/Melbourne:20190302T090000
DTEND;TZID=Australia/Melbourne:20190303T170000
DTSTAMP:20190226T185300
CREATED:20190115T194505Z
LAST-MODIFIED:20190115T194505Z
UID:772-1551517200-1551632400@gmac.org.au
SUMMARY:F3A SWAMPS/P&DARCS
DESCRIPTION:2 day competition at two different venues\, SWAMPS and P&DARCS (both close to Pakenham) \n
URL:https://gmac.org.au/index.php/event/f3a-swamps-pdarcs/
LOCATION:SWAMPS
END:VEVENT
END:VCALENDAR